BEGIN:VCALENDAR
VERSION:2.0
PRODID:-//Alles Detten - ECPv6.15.20//NONSGML v1.0//EN
CALSCALE:GREGORIAN
METHOD:PUBLISH
X-WR-CALNAME:Alles Detten
X-ORIGINAL-URL:https://allesdetten.de
X-WR-CALDESC:Veranstaltungen für Alles Detten
REFRESH-INTERVAL;VALUE=DURATION:PT1H
X-Robots-Tag:noindex
X-PUBLISHED-TTL:PT1H
BEGIN:VTIMEZONE
TZID:Europe/Berlin
BEGIN:DAYLIGHT
TZOFFSETFROM:+0100
TZOFFSETTO:+0200
TZNAME:CEST
DTSTART:20240331T010000
END:DAYLIGHT
BEGIN:STANDARD
TZOFFSETFROM:+0200
TZOFFSETTO:+0100
TZNAME:CET
DTSTART:20241027T010000
END:STANDARD
BEGIN:DAYLIGHT
TZOFFSETFROM:+0100
TZOFFSETTO:+0200
TZNAME:CEST
DTSTART:20250330T010000
END:DAYLIGHT
BEGIN:STANDARD
TZOFFSETFROM:+0200
TZOFFSETTO:+0100
TZNAME:CET
DTSTART:20251026T010000
END:STANDARD
BEGIN:DAYLIGHT
TZOFFSETFROM:+0100
TZOFFSETTO:+0200
TZNAME:CEST
DTSTART:20260329T010000
END:DAYLIGHT
BEGIN:STANDARD
TZOFFSETFROM:+0200
TZOFFSETTO:+0100
TZNAME:CET
DTSTART:20261025T010000
END:STANDARD
END:VTIMEZONE
BEGIN:VEVENT
DTSTART;TZID=Europe/Berlin:20250814T170000
DTEND;TZID=Europe/Berlin:20250814T172000
DTSTAMP:20260423T144522
CREATED:20250811T071414Z
LAST-MODIFIED:20250811T071414Z
UID:94708-1755190800-1755192000@allesdetten.de
SUMMARY:Mahnwache für den Frieden
DESCRIPTION:
URL:https://allesdetten.de/event/mahnwache-fuer-den-frieden-129/
LOCATION:Morgentaubrunnen
CATEGORIES:Allgemein
END:VEVENT
BEGIN:VEVENT
DTSTART;TZID=Europe/Berlin:20250815T180000
DTEND;TZID=Europe/Berlin:20250815T230000
DTSTAMP:20260423T144522
CREATED:20250814T193807Z
LAST-MODIFIED:20250814T193807Z
UID:94893-1755280800-1755298800@allesdetten.de
SUMMARY:Stammtisch "Dettschk Platt"
DESCRIPTION:
URL:https://allesdetten.de/event/stammtisch-dettschk-platt-7/
LOCATION:„Altes Gasthaus Engeln“\, Kirchstraße\, Emsd
CATEGORIES:Allgemein
END:VEVENT
BEGIN:VEVENT
DTSTART;TZID=Europe/Berlin:20250821T170000
DTEND;TZID=Europe/Berlin:20250821T172000
DTSTAMP:20260423T144522
CREATED:20250818T061249Z
LAST-MODIFIED:20250818T061249Z
UID:95040-1755795600-1755796800@allesdetten.de
SUMMARY:Mahnwache "Schweigen für den Frieden"
DESCRIPTION:
URL:https://allesdetten.de/event/mahnwache-schweigen-fuer-den-frieden-4/
LOCATION:Morgentaubrunnen
CATEGORIES:Allgemein
END:VEVENT
BEGIN:VEVENT
DTSTART;TZID=Europe/Berlin:20250824T143000
DTEND;TZID=Europe/Berlin:20250824T190000
DTSTAMP:20260423T144522
CREATED:20250820T131256Z
LAST-MODIFIED:20250820T131256Z
UID:95127-1756045800-1756062000@allesdetten.de
SUMMARY:Chorsommer 2025
DESCRIPTION:
URL:https://allesdetten.de/event/chorsommer-2025/
LOCATION:Kulturhof Deitmar
CATEGORIES:Allgemein
END:VEVENT
BEGIN:VEVENT
DTSTART;TZID=Europe/Berlin:20250828T170000
DTEND;TZID=Europe/Berlin:20250828T172000
DTSTAMP:20260423T144522
CREATED:20250825T121016Z
LAST-MODIFIED:20250825T121016Z
UID:95304-1756400400-1756401600@allesdetten.de
SUMMARY:Mahnwache für den Frieden
DESCRIPTION:
URL:https://allesdetten.de/event/mahnwache-fuer-den-frieden-130/
LOCATION:Morgentaubrunnen
CATEGORIES:Allgemein
END:VEVENT
BEGIN:VEVENT
DTSTART;VALUE=DATE:20250829
DTEND;VALUE=DATE:20250902
DTSTAMP:20260423T144522
CREATED:20250109T125059Z
LAST-MODIFIED:20250109T125059Z
UID:85015-1756465200-1756724399@allesdetten.de
SUMMARY:100 Jahre Schützengemeinschaft Sinningen
DESCRIPTION:
URL:https://allesdetten.de/event/100-jahre-schuetzengemeinschaft-sinningen/
CATEGORIES:Allgemein
END:VEVENT
END:VCALENDAR