BEGIN:VCALENDAR
VERSION:2.0
PRODID:-//Alles Detten - ECPv6.15.20//NONSGML v1.0//EN
CALSCALE:GREGORIAN
METHOD:PUBLISH
X-ORIGINAL-URL:https://allesdetten.de
X-WR-CALDESC:Veranstaltungen für Alles Detten
REFRESH-INTERVAL;VALUE=DURATION:PT1H
X-Robots-Tag:noindex
X-PUBLISHED-TTL:PT1H
BEGIN:VTIMEZONE
TZID:Europe/Berlin
BEGIN:DAYLIGHT
TZOFFSETFROM:+0100
TZOFFSETTO:+0200
TZNAME:CEST
DTSTART:20240331T010000
END:DAYLIGHT
BEGIN:STANDARD
TZOFFSETFROM:+0200
TZOFFSETTO:+0100
TZNAME:CET
DTSTART:20241027T010000
END:STANDARD
BEGIN:DAYLIGHT
TZOFFSETFROM:+0100
TZOFFSETTO:+0200
TZNAME:CEST
DTSTART:20250330T010000
END:DAYLIGHT
BEGIN:STANDARD
TZOFFSETFROM:+0200
TZOFFSETTO:+0100
TZNAME:CET
DTSTART:20251026T010000
END:STANDARD
BEGIN:DAYLIGHT
TZOFFSETFROM:+0100
TZOFFSETTO:+0200
TZNAME:CEST
DTSTART:20260329T010000
END:DAYLIGHT
BEGIN:STANDARD
TZOFFSETFROM:+0200
TZOFFSETTO:+0100
TZNAME:CET
DTSTART:20261025T010000
END:STANDARD
END:VTIMEZONE
BEGIN:VEVENT
DTSTART;TZID=Europe/Berlin:20250702T193000
DTEND;TZID=Europe/Berlin:20250702T210000
DTSTAMP:20260423T163618
CREATED:20250629T162413Z
LAST-MODIFIED:20250629T162536Z
UID:92855-1751484600-1751490000@allesdetten.de
SUMMARY:Stammtisch Die Linke
DESCRIPTION:Beginn: 19:30\nKarlstraße 17 in Emsdetten\nam 02.07.25
URL:https://allesdetten.de/event/stammtisch-die-linke-5/
LOCATION:Zentrum „Die Linke“\, Karlstr. 17\, Emsdetten\, 48282
END:VEVENT
BEGIN:VEVENT
DTSTART;TZID=Europe/Berlin:20250703T170000
DTEND;TZID=Europe/Berlin:20250703T172000
DTSTAMP:20260423T163618
CREATED:20250701T211930Z
LAST-MODIFIED:20250701T211930Z
UID:92955-1751562000-1751563200@allesdetten.de
SUMMARY:Mahnwache für den Frieden
DESCRIPTION:
URL:https://allesdetten.de/event/mahnwache-fuer-den-frieden-125/
LOCATION:Morgentaubrunnen
CATEGORIES:Allgemein
END:VEVENT
BEGIN:VEVENT
DTSTART;TZID=Europe/Berlin:20250705T144500
DTEND;TZID=Europe/Berlin:20250705T180000
DTSTAMP:20260423T163618
CREATED:20250702T100159Z
LAST-MODIFIED:20250702T100159Z
UID:92968-1751726700-1751738400@allesdetten.de
SUMMARY:Kinderschützenfest
DESCRIPTION:
URL:https://allesdetten.de/event/kinderschuetzenfest/
LOCATION:Bedachung Possemeyer
CATEGORIES:Allgemein
END:VEVENT
BEGIN:VEVENT
DTSTART;TZID=Europe/Berlin:20250705T183000
DTEND;TZID=Europe/Berlin:20250705T233000
DTSTAMP:20260423T163618
CREATED:20250702T100300Z
LAST-MODIFIED:20250702T100300Z
UID:92972-1751740200-1751758200@allesdetten.de
SUMMARY:Vougel bekieken
DESCRIPTION:
URL:https://allesdetten.de/event/vougel-bekieken/
LOCATION:Bedachung Possemeyer
CATEGORIES:Allgemein
END:VEVENT
BEGIN:VEVENT
DTSTART;TZID=Europe/Berlin:20250705T190000
DTEND;TZID=Europe/Berlin:20250705T233000
DTSTAMP:20260423T163618
CREATED:20250702T101142Z
LAST-MODIFIED:20250702T101142Z
UID:92976-1751742000-1751758200@allesdetten.de
SUMMARY:Reiten lernen
DESCRIPTION:
URL:https://allesdetten.de/event/reiten-lernen/
LOCATION:Käthe-Kollwitz-Schule\, Sträterstr.
CATEGORIES:Allgemein
END:VEVENT
BEGIN:VEVENT
DTSTART;TZID=Europe/Berlin:20250706T140000
DTEND;TZID=Europe/Berlin:20250706T170000
DTSTAMP:20260423T163618
CREATED:20250702T112605Z
LAST-MODIFIED:20250702T112605Z
UID:93001-1751810400-1751821200@allesdetten.de
SUMMARY:Tag der offenen Tür
DESCRIPTION:
URL:https://allesdetten.de/event/tag-der-offenen-tuer-2/
LOCATION:Lehrbienenstand\, Westumer Landstraße
CATEGORIES:Allgemein
END:VEVENT
BEGIN:VEVENT
DTSTART;TZID=Europe/Berlin:20250707T200000
DTEND;TZID=Europe/Berlin:20250707T233000
DTSTAMP:20260423T163618
CREATED:20250702T101620Z
LAST-MODIFIED:20250702T101620Z
UID:92982-1751918400-1751931000@allesdetten.de
SUMMARY:Vougel bekieken
DESCRIPTION:
URL:https://allesdetten.de/event/vougel-bekieken-2/
LOCATION:Düsterbeck Hotel-Restaurant
CATEGORIES:Allgemein
END:VEVENT
BEGIN:VEVENT
DTSTART;TZID=Europe/Berlin:20250710T170000
DTEND;TZID=Europe/Berlin:20250710T172000
DTSTAMP:20260423T163618
CREATED:20250707T092332Z
LAST-MODIFIED:20250707T093039Z
UID:93201-1752166800-1752168000@allesdetten.de
SUMMARY:Mahnwache für den Frieden
DESCRIPTION:
URL:https://allesdetten.de/event/mahnwache-fuer-den-frieden-126/
LOCATION:Morgentaubrunnen
CATEGORIES:Allgemein
END:VEVENT
BEGIN:VEVENT
DTSTART;VALUE=DATE:20250711
DTEND;VALUE=DATE:20250716
DTSTAMP:20260423T163618
CREATED:20250109T124911Z
LAST-MODIFIED:20250109T124911Z
UID:85013-1752231600-1752577199@allesdetten.de
SUMMARY:Schützenfest auf mehreren Sälen und Zelten
DESCRIPTION:
URL:https://allesdetten.de/event/schuetzenfest-auf-mehreren-saelen-und-zelten/
CATEGORIES:Allgemein
END:VEVENT
BEGIN:VEVENT
DTSTART;TZID=Europe/Berlin:20250717T170000
DTEND;TZID=Europe/Berlin:20250717T172000
DTSTAMP:20260423T163618
CREATED:20250714T185810Z
LAST-MODIFIED:20250714T185810Z
UID:93717-1752771600-1752772800@allesdetten.de
SUMMARY:Mahnwache
DESCRIPTION:
URL:https://allesdetten.de/event/mahnwache-6/
LOCATION:Morgentaubrunnen
CATEGORIES:Allgemein
END:VEVENT
BEGIN:VEVENT
DTSTART;TZID=Europe/Berlin:20250718T180000
DTEND;TZID=Europe/Berlin:20250718T223000
DTSTAMP:20260423T163618
CREATED:20250717T090329Z
LAST-MODIFIED:20250717T090329Z
UID:93816-1752861600-1752877800@allesdetten.de
SUMMARY:Stammtisch "Dettsk Platt"
DESCRIPTION:
URL:https://allesdetten.de/event/stammtisch-dettsk-platt-4/
LOCATION:„Altes Gasthaus Engeln“\, Kirchstraße\, Emsd
CATEGORIES:Allgemein
END:VEVENT
BEGIN:VEVENT
DTSTART;TZID=Europe/Berlin:20250720T100000
DTEND;TZID=Europe/Berlin:20250720T140000
DTSTAMP:20260423T163618
CREATED:20250717T183454Z
LAST-MODIFIED:20250717T183454Z
UID:93832-1753005600-1753020000@allesdetten.de
SUMMARY:Königsempfang
DESCRIPTION:
URL:https://allesdetten.de/event/koenigsempfang/
LOCATION:Deitmars Hof
CATEGORIES:Allgemein
END:VEVENT
BEGIN:VEVENT
DTSTART;TZID=Europe/Berlin:20250724T170000
DTEND;TZID=Europe/Berlin:20250724T172000
DTSTAMP:20260423T163618
CREATED:20250721T072820Z
LAST-MODIFIED:20250721T073954Z
UID:93957-1753376400-1753377600@allesdetten.de
SUMMARY:Mahnwache für den Frieden
DESCRIPTION:
URL:https://allesdetten.de/event/mahnwache-fuer-den-frieden-127/
LOCATION:Morgentaubrunnen
CATEGORIES:Allgemein
END:VEVENT
BEGIN:VEVENT
DTSTART;TZID=Europe/Berlin:20250731T170000
DTEND;TZID=Europe/Berlin:20250731T172000
DTSTAMP:20260423T163618
CREATED:20250728T060736Z
LAST-MODIFIED:20250728T060736Z
UID:94203-1753981200-1753982400@allesdetten.de
SUMMARY:Mahnwache für den Frieden
DESCRIPTION:
URL:https://allesdetten.de/event/mahnwache-fuer-den-frieden-128/
LOCATION:Morgentaubrunnen
CATEGORIES:Allgemein
END:VEVENT
END:VCALENDAR