BEGIN:VCALENDAR
VERSION:2.0
PRODID:-//Alles Detten - ECPv6.15.20//NONSGML v1.0//EN
CALSCALE:GREGORIAN
METHOD:PUBLISH
X-WR-CALNAME:Alles Detten
X-ORIGINAL-URL:https://allesdetten.de
X-WR-CALDESC:Veranstaltungen für Alles Detten
REFRESH-INTERVAL;VALUE=DURATION:PT1H
X-Robots-Tag:noindex
X-PUBLISHED-TTL:PT1H
BEGIN:VTIMEZONE
TZID:Europe/Berlin
BEGIN:DAYLIGHT
TZOFFSETFROM:+0100
TZOFFSETTO:+0200
TZNAME:CEST
DTSTART:20240331T010000
END:DAYLIGHT
BEGIN:STANDARD
TZOFFSETFROM:+0200
TZOFFSETTO:+0100
TZNAME:CET
DTSTART:20241027T010000
END:STANDARD
BEGIN:DAYLIGHT
TZOFFSETFROM:+0100
TZOFFSETTO:+0200
TZNAME:CEST
DTSTART:20250330T010000
END:DAYLIGHT
BEGIN:STANDARD
TZOFFSETFROM:+0200
TZOFFSETTO:+0100
TZNAME:CET
DTSTART:20251026T010000
END:STANDARD
BEGIN:DAYLIGHT
TZOFFSETFROM:+0100
TZOFFSETTO:+0200
TZNAME:CEST
DTSTART:20260329T010000
END:DAYLIGHT
BEGIN:STANDARD
TZOFFSETFROM:+0200
TZOFFSETTO:+0100
TZNAME:CET
DTSTART:20261025T010000
END:STANDARD
END:VTIMEZONE
BEGIN:VEVENT
DTSTART;TZID=Europe/Berlin:20250502T190000
DTEND;TZID=Europe/Berlin:20250502T230000
DTSTAMP:20260423T205448
CREATED:20250428T065102Z
LAST-MODIFIED:20250428T065102Z
UID:89992-1746212400-1746226800@allesdetten.de
SUMMARY:Liberaler Stammtisch
DESCRIPTION:
URL:https://allesdetten.de/event/liberaler-stammtisch-2/
LOCATION:Moni’s Kneipe bei Bücker\, Kirchstr.\, Emsdetten
CATEGORIES:Allgemein
END:VEVENT
BEGIN:VEVENT
DTSTART;TZID=Europe/Berlin:20250503T180000
DTEND;TZID=Europe/Berlin:20250503T230000
DTSTAMP:20260423T205448
CREATED:20250430T071540Z
LAST-MODIFIED:20250430T071540Z
UID:90162-1746295200-1746313200@allesdetten.de
SUMMARY:"Toog nao de Roode brengen" mit anschließender Generalversammlung
DESCRIPTION:
URL:https://allesdetten.de/event/toog-nao-de-roode-brengen-mit-anschliessender-generalversammlung/
LOCATION:Remise\, Westumer Landstr.\, Emsdetten
CATEGORIES:Allgemein
END:VEVENT
BEGIN:VEVENT
DTSTART;TZID=Europe/Berlin:20250507T193000
DTEND;TZID=Europe/Berlin:20250507T210000
DTSTAMP:20260423T205448
CREATED:20250505T110154Z
LAST-MODIFIED:20250505T110154Z
UID:90391-1746646200-1746651600@allesdetten.de
SUMMARY:Bock auf Politik + Kaltgetränk?
DESCRIPTION:Dann komm ins Linke Zentrum (Karlstraße 17\, 48282 Emsdetten)! \n„Wir von Die Linke Emsdetten treffen uns auf ein Bier und quatschen über die Kommunalwahl und alles\, was in Emsdetten politisch so abgeht.\nWenn du Bock hast mitzureden\, reinzuschnuppern oder einfach mal vorbeizuschauen – bist du herzlich eingeladen!
URL:https://allesdetten.de/event/bock-auf-politik-kaltgetraenk/
LOCATION:Zentrum „Die Linke“\, Karlstr. 17\, Emsdetten\, 48282
CATEGORIES:Allgemein
END:VEVENT
BEGIN:VEVENT
DTSTART;TZID=Europe/Berlin:20250508T170000
DTEND;TZID=Europe/Berlin:20250508T172000
DTSTAMP:20260423T205448
CREATED:20250505T080455Z
LAST-MODIFIED:20250505T080455Z
UID:90377-1746723600-1746724800@allesdetten.de
SUMMARY:Mahnwache für den Frieden
DESCRIPTION:
URL:https://allesdetten.de/event/mahnwache-fuer-den-frieden-121/
LOCATION:Morgentaubrunnen
CATEGORIES:Allgemein
END:VEVENT
BEGIN:VEVENT
DTSTART;TZID=Europe/Berlin:20250508T170000
DTEND;TZID=Europe/Berlin:20250508T193000
DTSTAMP:20260423T205448
CREATED:20250508T042344Z
LAST-MODIFIED:20250508T042344Z
UID:90527-1746723600-1746732600@allesdetten.de
SUMMARY:Berufswahlmesse 2025
DESCRIPTION:
URL:https://allesdetten.de/event/berufswahlmesse-2025/
LOCATION:EMS-Halle\, Friedrichstraße\, Emsdetten
CATEGORIES:Allgemein
END:VEVENT
BEGIN:VEVENT
DTSTART;TZID=Europe/Berlin:20250515T170000
DTEND;TZID=Europe/Berlin:20250515T172000
DTSTAMP:20260423T205448
CREATED:20250512T064409Z
LAST-MODIFIED:20250512T064409Z
UID:90686-1747328400-1747329600@allesdetten.de
SUMMARY:Mahnwache
DESCRIPTION:
URL:https://allesdetten.de/event/mahnwache-5/
LOCATION:Morgentaubrunnen
CATEGORIES:Allgemein
END:VEVENT
BEGIN:VEVENT
DTSTART;VALUE=DATE:20250516
DTEND;VALUE=DATE:20250519
DTSTAMP:20260423T205448
CREATED:20250109T124757Z
LAST-MODIFIED:20250109T124757Z
UID:85011-1747393200-1747565999@allesdetten.de
SUMMARY:100 Jahre Spielmannszug Berge
DESCRIPTION:
URL:https://allesdetten.de/event/100-jahre-spielmannszug-berge/
CATEGORIES:Allgemein
END:VEVENT
BEGIN:VEVENT
DTSTART;TZID=Europe/Berlin:20250516T180000
DTEND;TZID=Europe/Berlin:20250516T220000
DTSTAMP:20260423T205448
CREATED:20250514T053229Z
LAST-MODIFIED:20250514T054727Z
UID:90763-1747418400-1747432800@allesdetten.de
SUMMARY:Stammtisch "Dettschke Platt"
DESCRIPTION:
URL:https://allesdetten.de/event/stammtisch-dettschk-platt-6/
LOCATION:„Altes Gasthaus Engeln“\, Kirchstraße\, Emsd
CATEGORIES:Allgemein
END:VEVENT
BEGIN:VEVENT
DTSTART;TZID=Europe/Berlin:20250517T110000
DTEND;TZID=Europe/Berlin:20250517T120000
DTSTAMP:20260423T205448
CREATED:20250513T115923Z
LAST-MODIFIED:20250513T115923Z
UID:90748-1747479600-1747483200@allesdetten.de
SUMMARY:Brotbacken im Kulturhof
DESCRIPTION:
URL:https://allesdetten.de/event/brotbacken-im-kulturhof/
LOCATION:Backhaus in Deitmars Hof\, Mühlenstraße\, Emsdetten
CATEGORIES:Allgemein
END:VEVENT
BEGIN:VEVENT
DTSTART;TZID=Europe/Berlin:20250518T103000
DTEND;TZID=Europe/Berlin:20250518T123000
DTSTAMP:20260423T205448
CREATED:20250513T182436Z
LAST-MODIFIED:20250513T182436Z
UID:90756-1747564200-1747571400@allesdetten.de
SUMMARY:Generalversammlung
DESCRIPTION:
URL:https://allesdetten.de/event/generalversammlung-2/
LOCATION:„Budde Heimann“ Ahlintel
CATEGORIES:Allgemein
END:VEVENT
BEGIN:VEVENT
DTSTART;TZID=Europe/Berlin:20250518T140000
DTEND;TZID=Europe/Berlin:20250518T170000
DTSTAMP:20260423T205448
CREATED:20250517T233051Z
LAST-MODIFIED:20250518T152527Z
UID:90935-1747576800-1747587600@allesdetten.de
SUMMARY:Internationales Kinderfest
DESCRIPTION:
URL:https://allesdetten.de/event/internationales-kinderfest-2/
LOCATION:Emanuel-von-Ketteler-Schule
CATEGORIES:Allgemein
END:VEVENT
BEGIN:VEVENT
DTSTART;TZID=Europe/Berlin:20250522T170000
DTEND;TZID=Europe/Berlin:20250522T172000
DTSTAMP:20260423T205448
CREATED:20250519T122343Z
LAST-MODIFIED:20250519T122343Z
UID:91122-1747933200-1747934400@allesdetten.de
SUMMARY:Mahnwache für den Frieden
DESCRIPTION:
URL:https://allesdetten.de/event/mahnwache-fuer-den-frieden-122/
LOCATION:Morgentaubrunnen
CATEGORIES:Allgemein
END:VEVENT
BEGIN:VEVENT
DTSTART;TZID=Europe/Berlin:20250524T070000
DTEND;TZID=Europe/Berlin:20250524T130000
DTSTAMP:20260423T205448
CREATED:20250522T072047Z
LAST-MODIFIED:20250522T072047Z
UID:91256-1748070000-1748091600@allesdetten.de
SUMMARY:Flohmarkt Kirchstraße
DESCRIPTION:
URL:https://allesdetten.de/event/flohmarkt-kirchstrasse-2/
LOCATION:Kirchstraße
CATEGORIES:Allgemein
END:VEVENT
BEGIN:VEVENT
DTSTART;TZID=Europe/Berlin:20250524T103000
DTEND;TZID=Europe/Berlin:20250524T120000
DTSTAMP:20260423T205448
CREATED:20250520T162725Z
LAST-MODIFIED:20250520T162725Z
UID:91211-1748082600-1748088000@allesdetten.de
SUMMARY:Vereinsfoto Westumer Schützengesellschaft
DESCRIPTION:
URL:https://allesdetten.de/event/vereinsfoto-westumer-schuetzengesellschaft/
CATEGORIES:Allgemein
END:VEVENT
BEGIN:VEVENT
DTSTART;TZID=Europe/Berlin:20250524T120000
DTEND;TZID=Europe/Berlin:20250524T120000
DTSTAMP:20260423T205448
CREATED:20250520T162824Z
LAST-MODIFIED:20250520T164226Z
UID:91213-1748088000-1748088000@allesdetten.de
SUMMARY:100 Jahre Westumer Kappelle
DESCRIPTION:
URL:https://allesdetten.de/event/fruehschoppen-kappellen-jubilaeum/
LOCATION:Vereinsheim Westumer Schützengesellschaft\, Schüttenrode 58\, Emsdetten
CATEGORIES:Allgemein
END:VEVENT
BEGIN:VEVENT
DTSTART;TZID=Europe/Berlin:20250525T103000
DTEND;TZID=Europe/Berlin:20250525T123000
DTSTAMP:20260423T205448
CREATED:20250520T085751Z
LAST-MODIFIED:20250520T085751Z
UID:91150-1748169000-1748176200@allesdetten.de
SUMMARY:Versammlung zu Schützenfest
DESCRIPTION:
URL:https://allesdetten.de/event/versammlung-zu-schuetzenfest/
LOCATION:Gaststätte Wältermann\, Nordwalder Str. 195\, Emsdetten
CATEGORIES:Allgemein
END:VEVENT
END:VCALENDAR