BEGIN:VCALENDAR
VERSION:2.0
PRODID:-//Alles Detten - ECPv6.15.20//NONSGML v1.0//EN
CALSCALE:GREGORIAN
METHOD:PUBLISH
X-ORIGINAL-URL:https://allesdetten.de
X-WR-CALDESC:Veranstaltungen für Alles Detten
REFRESH-INTERVAL;VALUE=DURATION:PT1H
X-Robots-Tag:noindex
X-PUBLISHED-TTL:PT1H
BEGIN:VTIMEZONE
TZID:Europe/Berlin
BEGIN:DAYLIGHT
TZOFFSETFROM:+0100
TZOFFSETTO:+0200
TZNAME:CEST
DTSTART:20240331T010000
END:DAYLIGHT
BEGIN:STANDARD
TZOFFSETFROM:+0200
TZOFFSETTO:+0100
TZNAME:CET
DTSTART:20241027T010000
END:STANDARD
BEGIN:DAYLIGHT
TZOFFSETFROM:+0100
TZOFFSETTO:+0200
TZNAME:CEST
DTSTART:20250330T010000
END:DAYLIGHT
BEGIN:STANDARD
TZOFFSETFROM:+0200
TZOFFSETTO:+0100
TZNAME:CET
DTSTART:20251026T010000
END:STANDARD
BEGIN:DAYLIGHT
TZOFFSETFROM:+0100
TZOFFSETTO:+0200
TZNAME:CEST
DTSTART:20260329T010000
END:DAYLIGHT
BEGIN:STANDARD
TZOFFSETFROM:+0200
TZOFFSETTO:+0100
TZNAME:CET
DTSTART:20261025T010000
END:STANDARD
END:VTIMEZONE
BEGIN:VEVENT
DTSTART;TZID=Europe/Berlin:20250524T070000
DTEND;TZID=Europe/Berlin:20250524T130000
DTSTAMP:20260423T205725
CREATED:20250522T072047Z
LAST-MODIFIED:20250522T072047Z
UID:91256-1748070000-1748091600@allesdetten.de
SUMMARY:Flohmarkt Kirchstraße
DESCRIPTION:
URL:https://allesdetten.de/event/flohmarkt-kirchstrasse-2/
LOCATION:Kirchstraße
CATEGORIES:Allgemein
END:VEVENT
BEGIN:VEVENT
DTSTART;TZID=Europe/Berlin:20250524T103000
DTEND;TZID=Europe/Berlin:20250524T120000
DTSTAMP:20260423T205725
CREATED:20250520T162725Z
LAST-MODIFIED:20250520T162725Z
UID:91211-1748082600-1748088000@allesdetten.de
SUMMARY:Vereinsfoto Westumer Schützengesellschaft
DESCRIPTION:
URL:https://allesdetten.de/event/vereinsfoto-westumer-schuetzengesellschaft/
CATEGORIES:Allgemein
END:VEVENT
BEGIN:VEVENT
DTSTART;TZID=Europe/Berlin:20250524T120000
DTEND;TZID=Europe/Berlin:20250524T120000
DTSTAMP:20260423T205725
CREATED:20250520T162824Z
LAST-MODIFIED:20250520T164226Z
UID:91213-1748088000-1748088000@allesdetten.de
SUMMARY:100 Jahre Westumer Kappelle
DESCRIPTION:
URL:https://allesdetten.de/event/fruehschoppen-kappellen-jubilaeum/
LOCATION:Vereinsheim Westumer Schützengesellschaft\, Schüttenrode 58\, Emsdetten
CATEGORIES:Allgemein
END:VEVENT
BEGIN:VEVENT
DTSTART;TZID=Europe/Berlin:20250525T103000
DTEND;TZID=Europe/Berlin:20250525T123000
DTSTAMP:20260423T205725
CREATED:20250520T085751Z
LAST-MODIFIED:20250520T085751Z
UID:91150-1748169000-1748176200@allesdetten.de
SUMMARY:Versammlung zu Schützenfest
DESCRIPTION:
URL:https://allesdetten.de/event/versammlung-zu-schuetzenfest/
LOCATION:Gaststätte Wältermann\, Nordwalder Str. 195\, Emsdetten
CATEGORIES:Allgemein
END:VEVENT
END:VCALENDAR