BEGIN:VCALENDAR
VERSION:2.0
PRODID:-//Alles Detten - ECPv6.15.20//NONSGML v1.0//EN
CALSCALE:GREGORIAN
METHOD:PUBLISH
X-ORIGINAL-URL:https://allesdetten.de
X-WR-CALDESC:Veranstaltungen für Alles Detten
REFRESH-INTERVAL;VALUE=DURATION:PT1H
X-Robots-Tag:noindex
X-PUBLISHED-TTL:PT1H
BEGIN:VTIMEZONE
TZID:Europe/Berlin
BEGIN:DAYLIGHT
TZOFFSETFROM:+0100
TZOFFSETTO:+0200
TZNAME:CEST
DTSTART:20240331T010000
END:DAYLIGHT
BEGIN:STANDARD
TZOFFSETFROM:+0200
TZOFFSETTO:+0100
TZNAME:CET
DTSTART:20241027T010000
END:STANDARD
BEGIN:DAYLIGHT
TZOFFSETFROM:+0100
TZOFFSETTO:+0200
TZNAME:CEST
DTSTART:20250330T010000
END:DAYLIGHT
BEGIN:STANDARD
TZOFFSETFROM:+0200
TZOFFSETTO:+0100
TZNAME:CET
DTSTART:20251026T010000
END:STANDARD
BEGIN:DAYLIGHT
TZOFFSETFROM:+0100
TZOFFSETTO:+0200
TZNAME:CEST
DTSTART:20260329T010000
END:DAYLIGHT
BEGIN:STANDARD
TZOFFSETFROM:+0200
TZOFFSETTO:+0100
TZNAME:CET
DTSTART:20261025T010000
END:STANDARD
END:VTIMEZONE
BEGIN:VEVENT
DTSTART;TZID=Europe/Berlin:20250427T090000
DTEND;TZID=Europe/Berlin:20250427T180000
DTSTAMP:20260424T000239
CREATED:20250424T074213Z
LAST-MODIFIED:20250424T074213Z
UID:89800-1745744400-1745776800@allesdetten.de
SUMMARY:Anradeln "Emsdettener 8"
DESCRIPTION:
URL:https://allesdetten.de/event/anradeln-emsdettener-8/
LOCATION:Kulturhof Deitmar
CATEGORIES:Allgemein
END:VEVENT
BEGIN:VEVENT
DTSTART;TZID=Europe/Berlin:20250427T100000
DTEND;TZID=Europe/Berlin:20250427T120000
DTSTAMP:20260424T000239
CREATED:20250424T101355Z
LAST-MODIFIED:20250424T101355Z
UID:89820-1745748000-1745755200@allesdetten.de
SUMMARY:Vereinsfoto für Jubiläum
DESCRIPTION:
URL:https://allesdetten.de/event/vereinsfoto-fuer-jubilaeum/
LOCATION:Mehrzweckhalle Sinningen
CATEGORIES:Allgemein
END:VEVENT
BEGIN:VEVENT
DTSTART;TZID=Europe/Berlin:20250427T103000
DTEND;TZID=Europe/Berlin:20250427T140000
DTSTAMP:20260424T000239
CREATED:20250424T074100Z
LAST-MODIFIED:20250424T074100Z
UID:89798-1745749800-1745762400@allesdetten.de
SUMMARY:Frühschoppen
DESCRIPTION:
URL:https://allesdetten.de/event/fruehschoppen/
LOCATION:Gaststätte Wältermann\, Nordwalder Str. 195\, Emsdetten
CATEGORIES:Allgemein
END:VEVENT
END:VCALENDAR