BEGIN:VCALENDAR
VERSION:2.0
PRODID:-//Alles Detten - ECPv6.15.20//NONSGML v1.0//EN
CALSCALE:GREGORIAN
METHOD:PUBLISH
X-ORIGINAL-URL:https://allesdetten.de
X-WR-CALDESC:Veranstaltungen für Alles Detten
REFRESH-INTERVAL;VALUE=DURATION:PT1H
X-Robots-Tag:noindex
X-PUBLISHED-TTL:PT1H
BEGIN:VTIMEZONE
TZID:Europe/Berlin
BEGIN:DAYLIGHT
TZOFFSETFROM:+0100
TZOFFSETTO:+0200
TZNAME:CEST
DTSTART:20200329T010000
END:DAYLIGHT
BEGIN:STANDARD
TZOFFSETFROM:+0200
TZOFFSETTO:+0100
TZNAME:CET
DTSTART:20201025T010000
END:STANDARD
BEGIN:DAYLIGHT
TZOFFSETFROM:+0100
TZOFFSETTO:+0200
TZNAME:CEST
DTSTART:20210328T010000
END:DAYLIGHT
BEGIN:STANDARD
TZOFFSETFROM:+0200
TZOFFSETTO:+0100
TZNAME:CET
DTSTART:20211031T010000
END:STANDARD
BEGIN:DAYLIGHT
TZOFFSETFROM:+0100
TZOFFSETTO:+0200
TZNAME:CEST
DTSTART:20220327T010000
END:DAYLIGHT
BEGIN:STANDARD
TZOFFSETFROM:+0200
TZOFFSETTO:+0100
TZNAME:CET
DTSTART:20221030T010000
END:STANDARD
END:VTIMEZONE
BEGIN:VEVENT
DTSTART;TZID=Europe/Berlin:20210829T100000
DTEND;TZID=Europe/Berlin:20210829T160000
DTSTAMP:20260419T144034
CREATED:20210826T150435Z
LAST-MODIFIED:20210826T150435Z
UID:26765-1630231200-1630252800@allesdetten.de
SUMMARY:Flohmarkt und Versteigerung zu Gunsten von Hochwasseropfern
DESCRIPTION:
URL:https://allesdetten.de/event/flohmarkt-und-versteigerung-zu-gunsten-von-hochwasseropfern/
LOCATION:SALVUS\, Hollefeldtraße
END:VEVENT
BEGIN:VEVENT
DTSTART;TZID=Europe/Berlin:20210829T150000
DTEND;TZID=Europe/Berlin:20210829T180000
DTSTAMP:20260419T144034
CREATED:20210818T103716Z
LAST-MODIFIED:20210818T103716Z
UID:26377-1630249200-1630260000@allesdetten.de
SUMMARY:Flanier-Kultur in der Ems-Aue
DESCRIPTION:
URL:https://allesdetten.de/event/flanier-kultur-in-der-ems-aue/
LOCATION:EmsAuen-Wiesen
END:VEVENT
END:VCALENDAR