BEGIN:VCALENDAR
VERSION:2.0
PRODID:-//Alles Detten - ECPv6.15.20//NONSGML v1.0//EN
CALSCALE:GREGORIAN
METHOD:PUBLISH
X-WR-CALNAME:Alles Detten
X-ORIGINAL-URL:https://allesdetten.de
X-WR-CALDESC:Veranstaltungen für Alles Detten
REFRESH-INTERVAL;VALUE=DURATION:PT1H
X-Robots-Tag:noindex
X-PUBLISHED-TTL:PT1H
BEGIN:VTIMEZONE
TZID:Europe/Berlin
BEGIN:DAYLIGHT
TZOFFSETFROM:+0100
TZOFFSETTO:+0200
TZNAME:CEST
DTSTART:20190331T010000
END:DAYLIGHT
BEGIN:STANDARD
TZOFFSETFROM:+0200
TZOFFSETTO:+0100
TZNAME:CET
DTSTART:20191027T010000
END:STANDARD
BEGIN:DAYLIGHT
TZOFFSETFROM:+0100
TZOFFSETTO:+0200
TZNAME:CEST
DTSTART:20200329T010000
END:DAYLIGHT
BEGIN:STANDARD
TZOFFSETFROM:+0200
TZOFFSETTO:+0100
TZNAME:CET
DTSTART:20201025T010000
END:STANDARD
BEGIN:DAYLIGHT
TZOFFSETFROM:+0100
TZOFFSETTO:+0200
TZNAME:CEST
DTSTART:20210328T010000
END:DAYLIGHT
BEGIN:STANDARD
TZOFFSETFROM:+0200
TZOFFSETTO:+0100
TZNAME:CET
DTSTART:20211031T010000
END:STANDARD
END:VTIMEZONE
BEGIN:VEVENT
DTSTART;TZID=Europe/Berlin:20201013T181500
DTEND;TZID=Europe/Berlin:20201013T191500
DTSTAMP:20260420T140849
CREATED:20201005T160030Z
LAST-MODIFIED:20201005T160030Z
UID:13118-1602612900-1602616500@allesdetten.de
SUMMARY:Qigong Yangsheng
DESCRIPTION:
URL:https://allesdetten.de/event/qigong-yangsheng-2/
LOCATION:Stroetmanns Fabrik\, Friedrichstr. 2\, Emsdetten
END:VEVENT
BEGIN:VEVENT
DTSTART;TZID=Europe/Berlin:20201013T193000
DTEND;TZID=Europe/Berlin:20201013T223000
DTSTAMP:20260420T140849
CREATED:20201005T120352Z
LAST-MODIFIED:20201005T120402Z
UID:13109-1602617400-1602628200@allesdetten.de
SUMMARY:Mixed Comedy Show
DESCRIPTION:
URL:https://allesdetten.de/event/mixed-comedy-show-3/
LOCATION:Landhaus Rickermann\, Reckenfeld
END:VEVENT
END:VCALENDAR