BEGIN:VCALENDAR
VERSION:2.0
PRODID:-//Alles Detten - ECPv6.15.20//NONSGML v1.0//EN
CALSCALE:GREGORIAN
METHOD:PUBLISH
X-WR-CALNAME:Alles Detten
X-ORIGINAL-URL:https://allesdetten.de
X-WR-CALDESC:Veranstaltungen für Alles Detten
REFRESH-INTERVAL;VALUE=DURATION:PT1H
X-Robots-Tag:noindex
X-PUBLISHED-TTL:PT1H
BEGIN:VTIMEZONE
TZID:Europe/Berlin
BEGIN:DAYLIGHT
TZOFFSETFROM:+0100
TZOFFSETTO:+0200
TZNAME:CEST
DTSTART:20190331T010000
END:DAYLIGHT
BEGIN:STANDARD
TZOFFSETFROM:+0200
TZOFFSETTO:+0100
TZNAME:CET
DTSTART:20191027T010000
END:STANDARD
BEGIN:DAYLIGHT
TZOFFSETFROM:+0100
TZOFFSETTO:+0200
TZNAME:CEST
DTSTART:20200329T010000
END:DAYLIGHT
BEGIN:STANDARD
TZOFFSETFROM:+0200
TZOFFSETTO:+0100
TZNAME:CET
DTSTART:20201025T010000
END:STANDARD
BEGIN:DAYLIGHT
TZOFFSETFROM:+0100
TZOFFSETTO:+0200
TZNAME:CEST
DTSTART:20210328T010000
END:DAYLIGHT
BEGIN:STANDARD
TZOFFSETFROM:+0200
TZOFFSETTO:+0100
TZNAME:CET
DTSTART:20211031T010000
END:STANDARD
END:VTIMEZONE
BEGIN:VEVENT
DTSTART;TZID=Europe/Berlin:20200926T070000
DTEND;TZID=Europe/Berlin:20200926T130000
DTSTAMP:20260420T134132
CREATED:20200924T074420Z
LAST-MODIFIED:20200924T074420Z
UID:12642-1601103600-1601125200@allesdetten.de
SUMMARY:Flohmarkt auf dem Rathausplatz
DESCRIPTION:
URL:https://allesdetten.de/event/flohmarkt-auf-dem-rathausplatz/
END:VEVENT
BEGIN:VEVENT
DTSTART;TZID=Europe/Berlin:20200926T170000
DTEND;TZID=Europe/Berlin:20200926T193000
DTSTAMP:20260420T134132
CREATED:20200921T203110Z
LAST-MODIFIED:20200921T203110Z
UID:12529-1601139600-1601148600@allesdetten.de
SUMMARY:Fabriktheater Wettringen "Rock of Ages"
DESCRIPTION:
URL:https://allesdetten.de/event/fabriktheater-wettringen-rock-of-ages/
LOCATION:Café Heinrich – Stadtpark
END:VEVENT
BEGIN:VEVENT
DTSTART;TZID=Europe/Berlin:20200927T080000
DTEND;TZID=Europe/Berlin:20200927T180000
DTSTAMP:20260420T134132
CREATED:20200926T094227Z
LAST-MODIFIED:20200926T094227Z
UID:12741-1601193600-1601229600@allesdetten.de
SUMMARY:Stichwahl Bürgermeister Emsdetten + Landrat Kreis Steinfurt
DESCRIPTION:
URL:https://allesdetten.de/event/stichwahl-buergermeister-emsdetten-landrat-kreis-steinfurt/
END:VEVENT
END:VCALENDAR