BEGIN:VCALENDAR
VERSION:2.0
PRODID:-//Alles Detten - ECPv6.15.20//NONSGML v1.0//EN
CALSCALE:GREGORIAN
METHOD:PUBLISH
X-WR-CALNAME:Alles Detten
X-ORIGINAL-URL:https://allesdetten.de
X-WR-CALDESC:Veranstaltungen für Alles Detten
REFRESH-INTERVAL;VALUE=DURATION:PT1H
X-Robots-Tag:noindex
X-PUBLISHED-TTL:PT1H
BEGIN:VTIMEZONE
TZID:Europe/Berlin
BEGIN:DAYLIGHT
TZOFFSETFROM:+0100
TZOFFSETTO:+0200
TZNAME:CEST
DTSTART:20190331T010000
END:DAYLIGHT
BEGIN:STANDARD
TZOFFSETFROM:+0200
TZOFFSETTO:+0100
TZNAME:CET
DTSTART:20191027T010000
END:STANDARD
BEGIN:DAYLIGHT
TZOFFSETFROM:+0100
TZOFFSETTO:+0200
TZNAME:CEST
DTSTART:20200329T010000
END:DAYLIGHT
BEGIN:STANDARD
TZOFFSETFROM:+0200
TZOFFSETTO:+0100
TZNAME:CET
DTSTART:20201025T010000
END:STANDARD
BEGIN:DAYLIGHT
TZOFFSETFROM:+0100
TZOFFSETTO:+0200
TZNAME:CEST
DTSTART:20210328T010000
END:DAYLIGHT
BEGIN:STANDARD
TZOFFSETFROM:+0200
TZOFFSETTO:+0100
TZNAME:CET
DTSTART:20211031T010000
END:STANDARD
END:VTIMEZONE
BEGIN:VEVENT
DTSTART;TZID=Europe/Berlin:20200918T190000
DTEND;TZID=Europe/Berlin:20200918T203000
DTSTAMP:20260424T132242
CREATED:20200918T070048Z
LAST-MODIFIED:20200918T070048Z
UID:12404-1600455600-1600461000@allesdetten.de
SUMMARY:Testspiel TVE - HSG Nordhorn-Lingen
DESCRIPTION:
URL:https://allesdetten.de/event/testspiel-tve-hsg-nordhorn-lingen/
LOCATION:EMS-Halle\, Friedrichstraße\, Emsdetten
END:VEVENT
BEGIN:VEVENT
DTSTART;TZID=Europe/Berlin:20200918T190000
DTEND;TZID=Europe/Berlin:20200918T220000
DTSTAMP:20260424T132242
CREATED:20200908T173338Z
LAST-MODIFIED:20200908T173338Z
UID:11953-1600455600-1600466400@allesdetten.de
SUMMARY:plattdüütsken Stammdisk
DESCRIPTION:
URL:https://allesdetten.de/event/plattdueuetsken-stammdisk/
LOCATION:„Altes Gasthaus Engeln“\, Kirchstraße\, Emsd
END:VEVENT
END:VCALENDAR